{"text_format":"1","workbook":"xlsx","n_sheets":12,"sheets":["MESAS","SUPERIOR","ARQUITECTURA","BELLAS ARTES","CBASICAS","EDUCACION","ECONOMICAS","CHUMANAS","JURIDICAS","INGENIERIA","NUTRICION","QUIMICA Y FARMACIA"],"not_rendered":{"charts":0,"images":1,"macros":1,"external_links":0,"defined_names":10,"comments":0,"pivot_tables":0},"unopened":[],"bounds":{"document_bytes":16777216,"sheet_cells":100000,"rows_first":2000,"rows_last":500,"rows_between":2000,"halvings":0,"cell_chars":16384,"cell_head_chars":4096},"cells_cut":0,"cells_raw":0,"read":"whole","date_system":"1900"}

{"sheet":"MESAS","index":0,"n_rows":191,"n_cols":55,"rows_kept":191,"cut":false,"hidden":false,"merged":[[173,54,174,54],[173,24,174,24],[173,25,174,25],[173,26,174,26],[173,27,174,27],[173,28,174,28],[173,29,174,29],[173,30,174,30],[173,31,174,31],[173,32,174,32],[173,33,174,33],[173,34,174,34],[173,35,174,35],[173,36,174,36],[173,37,174,37],[173,38,174,38],[173,39,174,39],[173,40,174,40],[173,19,174,19],[173,20,174,20],[173,21,174,21],[173,22,174,22],[173,23,174,23],[173,41,174,41],[173,42,174,42],[173,43,174,43],[173,44,174,44],[173,45,174,45],[173,46,174,46],[173,47,174,47],[173,48,174,48],[173,49,174,49],[173,50,174,50],[173,52,174,52],[173,53,174,53],[173,51,174,51],[173,1,174,1],[173,3,174,3],[173,4,174,4],[173,5,174,5],[173,6,174,6],[173,7,174,7],[173,8,174,8],[173,9,174,9],[173,10,174,10],[173,11,174,11],[173,12,174,12],[173,13,174,13],[173,14,174,14],[173,15,174,15],[173,16,174,16],[173,17,174,17],[173,18,174,18],[171,37,172,37],[171,38,172,38],[171,39,172,39],[171,40,172,40],[171,41,172,41],[171,42,172,42],[171,43,172,43],[171,44,172,44],[171,45,172,45],[171,46,172,46],[171,47,172,47],[171,48,172,48],[171,49,172,49],[171,50,172,50],[171,52,172,52],[171,53,172,53],[171,54,172,54],[171,51,172,51],[171,20,172,20],[171,21,172,21],[171,22,172,22],[171,23,172,23],[171,24,172,24],[171,25,172,25],[171,26,172,26],[171,27,172,27],[171,28,172,28],[171,29,172,29],[171,30,172,30],[171,31,172,31],[171,32,172,32],[171,33,172,33],[171,34,172,34],[171,35,172,35],[171,36,172,36],[169,40,170,40],[169,41,170,41],[169,42,170,42],[169,43,170,43],[169,44,170,44],[169,45,170,45],[169,46,170,46],[169,47,170,47],[169,48,170,48],[169,49,170,49],[169,50,170,50],[169,52,170,52],[169,53,170,53],[169,54,170,54],[171,1,172,1],[171,3,172,3],[171,4,172,4],[171,5,172,5],[171,6,172,6],[171,7,172,7],[171,8,172,8],[171,9,172,9],[171,10,172,10],[171,11,172,11],[171,12,172,12],[171,13,172,13],[171,14,172,14],[171,15,172,15],[171,16,172,16],[171,17,172,17],[171,18,172,18],[171,19,172,19],[169,23,170,23],[169,24,170,24],[169,25,170,25],[169,26,170,26],[169,27,170,27],[169,28,170,28],[169,29,170,29],[169,30,170,30],[169,31,170,31],[169,32,170,32],[169,33,170,33],[169,34,170,34],[169,35,170,35],[169,36,170,36],[169,37,170,37],[169,38,170,38],[169,39,170,39],[167,43,168,43],[167,44,168,44],[167,45,168,45],[167,46,168,46],[167,47,168,47],[167,48,168,48],[167,49,168,49],[167,50,168,50],[167,52,168,52],[167,53,168,53],[167,54,168,54],[169,1,170,1],[169,3,170,3],[169,4,170,4],[169,5,170,5],[169,6,170,6],[169,7,170,7],[169,8,170,8],[169,9,170,9],[169,10,170,10],[169,11,170,11],[169,12,170,12],[169,13,170,13],[169,14,170,14],[169,15,170,15],[169,16,170,16],[169,17,170,17],[169,18,170,18],[169,19,170,19],[169,20,170,20],[169,21,170,21],[169,22,170,22],[167,26,168,26],[167,27,168,27],[167,28,168,28],[167,29,168,29],[167,30,168,30],[167,31,168,31],[167,32,168,32],[167,33,168,33],[167,34,168,34],[167,35,168,35],[167,36,168,36],[167,37,168,37],[167,38,168,38],[167,39,168,39],[167,40,168,40],[167,41,168,41],[167,42,168,42],[155,46,156,46],[155,47,156,47],[155,48,156,48],[155,49,156,49],[155,50,156,50],[155,52,156,52],[155,53,156,53],[155,54,156,54],[167,1,168,1],[167,3,168,3],[167,4,168,4],[167,5,168,5],[167,6,168,6],[167,7,168,7],[167,8,168,8],[167,9,168,9],[167,10,168,10],[167,11,168,11],[167,12,168,12],[167,13,168,13],[167,14,168,14],[167,15,168,15],[167,16,168,16],[167,17,168,17],[167,18,168,18],[167,19,168,19],[167,20,168,20],[167,21,168,21],[167,22,168,22],[167,23,168,23],[167,24,168,24],[167,25,168,25],[155,29,156,29],[155,30,156,30],[155,31,156,31],[155,32,156,32],[155,33,156,33],[155,34,156,34],[155,35,156,35],[155,36,156,36],[155,37,156,37],[155,38,156,38],[155,39,156,39],[155,40,156,40],[155,41,156,41],[155,42,156,42],[155,43,156,43],[155,44,156,44],[155,45,156,45],[153,49,154,49],[153,50,154,50],[153,52,154,52],[153,53,154,53],[153,54,154,54],[155,1,156,1],[155,3,156,3],[155,4,156,4],[155,5,156,5],[155,6,156,6],[155,7,156,7],[155,8,156,8],[155,9,156,9],[155,10,156,10],[155,11,156,11],[155,12,156,12],[155,13,156,13],[155,14,156,14],[155,15,156,15],[155,16,156,16],[155,17,156,17],[155,18,156,18],[155,19,156,19],[155,20,156,20],[155,21,156,21],[155,22,156,22],[155,23,156,23],[155,24,156,24],[155,25,156,25],[155,26,156,26],[155,27,156,27],[155,28,156,28],[153,32,154,32],[153,33,154,33],[153,34,154,34],[153,35,154,35],[153,36,154,36],[153,37,154,37],[153,38,154,38],[153,39,154,39],[153,40,154,40],[153,41,154,41],[153,42,154,42],[153,43,154,43],[153,44,154,44],[153,45,154,45],[153,46,154,46],[153,47,154,47],[153,48,154,48],[151,53,152,53],[151,54,152,54],[153,1,154,1],[153,3,154,3],[153,4,154,4],[153,5,154,5],[153,6,154,6],[153,7,154,7],[153,8,154,8],[153,9,154,9],[153,10,154,10],[153,11,154,11],[153,12,154,12],[153,13,154,13],[153,14,154,14],[153,15,154,15],[153,16,154,16],[153,17,154,17],[153,18,154,18],[153,19,154,19],[153,20,154,20],[153,21,154,21],[153,22,154,22],[153,23,154,23],[153,24,154,24],[153,25,154,25],[153,26,154,26],[153,27,154,27],[153,28,154,28],[153,29,154,29],[153,30,154,30],[153,31,154,31],[151,23,152,23],[151,24,152,24],[151,25,152,25],[151,26,152,26],[151,40,152,40],[151,42,152,42],[151,43,152,43],[151,44,152,44],[151,45,152,45],[151,46,152,46],[151,47,152,47],[151,48,152,48],[151,49,152,49],[151,50,152,50],[151,52,152,52],[151,31,152,31],[151,41,152,41],[133,42,134,42],[133,43,134,43],[133,44,134,44],[133,45,134,45],[133,46,134,46],[133,47,134,47],[133,48,134,48],[133,49,134,49],[133,50,134,50],[133,52,134,52],[133,53,134,53],[133,54,134,54],[151,1,152,1],[151,3,152,3],[151,4,152,4],[151,5,152,5],[151,6,152,6],[151,7,152,7],[151,8,152,8],[151,9,152,9],[151,10,152,10],[151,11,152,11],[151,12,152,12],[151,13,152,13],[151,14,152,14],[151,15,152,15],[151,16,152,16],[151,17,152,17],[151,18,152,18],[151,19,152,19],[151,20,152,20],[151,21,152,21],[133,25,134,25],[133,26,134,26],[133,27,134,27],[133,28,134,28],[133,29,134,29],[133,30,134,30],[133,31,134,31],[133,32,134,32],[133,33,134,33],[133,34,134,34],[133,35,134,35],[133,36,134,36],[133,37,134,37],[133,38,134,38],[133,39,134,39],[133,40,134,40],[133,41,134,41],[131,24,132,24],[131,25,132,25],[131,26,132,26],[131,27,132,27],[131,28,132,28],[131,50,132,50],[131,52,132,52],[131,53,132,53],[131,54,132,54],[133,1,134,1],[133,3,134,3],[133,4,134,4],[133,5,134,5],[133,6,134,6],[133,7,134,7],[133,8,134,8],[133,9,134,9],[133,10,134,10],[133,11,134,11],[133,12,134,12],[133,13,134,13],[133,14,134,14],[133,15,134,15],[133,16,134,16],[133,17,134,17],[133,18,134,18],[133,19,134,19],[133,20,134,20],[133,21,134,21],[133,22,134,22],[133,23,134,23],[133,24,134,24],[97,43,98,43],[97,44,98,44],[97,45,98,45],[97,46,98,46],[97,47,98,47],[97,48,98,48],[97,49,98,49],[97,50,98,50],[97,52,98,52],[97,53,98,53],[97,54,98,54],[131,1,132,1],[131,3,132,3],[131,4,132,4],[131,5,132,5],[131,6,132,6],[131,7,132,7],[131,8,132,8],[131,9,132,9],[131,10,132,10],[131,11,132,11],[131,12,132,12],[131,13,132,13],[131,14,132,14],[131,15,132,15],[131,16,132,16],[131,17,132,17],[131,18,132,18],[131,19,132,19],[131,20,132,20],[131,21,132,21],[131,23,132,23],[97,26,98,26],[97,27,98,27],[97,28,98,28],[97,29,98,29],[97,30,98,30],[97,31,98,31],[97,32,98,32],[97,33,98,33],[97,34,98,34],[97,35,98,35],[97,36,98,36],[97,37,98,37],[97,38,98,38],[97,39,98,39],[97,40,98,40],[97,41,98,41],[97,42,98,42],[95,46,96,46],[95,47,96,47],[95,48,96,48],[95,49,96,49],[95,50,96,50],[95,52,96,52],[95,53,96,53],[95,54,96,54],[97,1,98,1],[97,3,98,3],[97,4,98,4],[97,5,98,5],[97,6,98,6],[97,7,98,7],[97,8,98,8],[97,9,98,9],[97,10,98,10],[97,11,98,11],[97,12,98,12],[97,13,98,13],[97,14,98,14],[97,15,98,15],[97,16,98,16],[97,17,98,17],[97,18,98,18],[97,19,98,19],[97,20,98,20],[97,21,98,21],[97,22,98,22],[97,23,98,23],[97,24,98,24],[97,25,98,25],[95,29,96,29],[95,30,96,30],[95,31,96,31],[95,32,96,32],[95,33,96,33],[95,34,96,34],[95,35,96,35],[95,36,96,36],[95,37,96,37],[95,38,96,38],[95,39,96,39],[95,40,96,40],[95,41,96,41],[95,42,96,42],[95,43,96,43],[95,44,96,44],[95,45,96,45],[93,49,94,49],[93,50,94,50],[93,52,94,52],[93,53,94,53],[93,54,94,54],[95,1,96,1],[95,3,96,3],[95,4,96,4],[95,5,96,5],[95,6,96,6],[95,7,96,7],[95,8,96,8],[95,9,96,9],[95,10,96,10],[95,11,96,11],[95,12,96,12],[95,13,96,13],[95,14,96,14],[95,15,96,15],[95,16,96,16],[95,17,96,17],[95,18,96,18],[95,19,96,19],[95,20,96,20],[95,21,96,21],[95,22,96,22],[95,23,96,23],[95,24,96,24],[95,25,96,25],[95,26,96,26],[95,27,96,27],[95,28,96,28],[93,32,94,32],[93,33,94,33],[93,34,94,34],[93,35,94,35],[93,36,94,36],[93,37,94,37],[93,38,94,38],[93,39,94,39],[93,40,94,40],[93,41,94,41],[93,42,94,42],[93,43,94,43],[93,44,94,44],[93,45,94,45],[93,46,94,46],[93,47,94,47],[93,48,94,48],[75,53,76,53],[75,54,76,54],[93,1,94,1],[93,3,94,3],[93,4,94,4],[93,5,94,5],[93,6,94,6],[93,7,94,7],[93,8,94,8],[93,9,94,9],[93,10,94,10],[93,11,94,11],[93,12,94,12],[93,13,94,13],[93,14,94,14],[93,15,94,15],[93,16,94,16],[93,17,94,17],[93,18,94,18],[93,19,94,19],[93,20,94,20],[93,21,94,21],[93,22,94,22],[93,23,94,23],[93,24,94,24],[93,25,94,25],[93,26,94,26],[93,27,94,27],[93,28,94,28],[93,29,94,29],[93,30,94,30],[93,31,94,31],[75,35,76,35],[75,36,76,36],[75,37,76,37],[75,38,76,38],[75,39,76,39],[75,40,76,40],[75,41,76,41],[75,42,76,42],[75,43,76,43],[75,44,76,44],[75,45,76,45],[75,46,76,46],[75,47,76,47],[75,48,76,48],[75,49,76,49],[75,50,76,50],[75,52,76,52],[53,43,54,43],[53,44,54,44],[53,45,54,45],[53,46,54,46],[53,47,54,47],[53,48,54,48],[53,49,54,49],[53,50,54,50],[53,52,54,52],[53,53,54,53],[53,54,54,54],[75,1,76,1],[75,3,76,3],[75,4,76,4],[75,5,76,5],[75,6,76,6],[75,7,76,7],[75,8,76,8],[75,9,76,9],[75,10,76,10],[75,11,76,11],[75,12,76,12],[75,13,76,13],[75,14,76,14],[75,15,76,15],[75,16,76,16],[75,17,76,17],[75,18,76,18],[75,19,76,19],[75,20,76,20],[75,24,76,24],[75,34,76,34],[39,41,40,41],[39,42,40,42],[39,43,40,43],[39,44,40,44],[39,45,40,45],[39,46,40,46],[39,47,40,47],[39,48,40,48],[39,49,40,49],[39,50,40,50],[39,52,40,52],[39,53,40,53],[39,54,40,54],[53,1,54,1],[53,3,54,3],[53,4,54,4],[53,5,54,5],[53,6,54,6],[53,7,54,7],[53,8,54,8],[53,9,54,9],[53,10,54,10],[53,11,54,11],[53,12,54,12],[53,13,54,13],[53,14,54,14],[53,15,54,15],[53,16,54,16],[53,17,54,17],[53,18,54,18],[53,19,54,19],[53,20,54,20],[39,18,40,18],[39,19,40,19],[39,20,40,20],[39,21,40,21],[39,22,40,22],[39,23,40,23],[39,24,40,24],[39,25,40,25],[39,26,40,26],[39,27,40,27],[39,28,40,28],[39,29,40,29],[39,30,40,30],[39,31,40,31],[39,32,40,32],[39,33,40,33],[39,34,40,34],[23,47,24,47],[23,48,24,48],[23,49,24,49],[23,50,24,50],[23,52,24,52],[23,53,24,53],[23,54,24,54],[25,39,26,39],[25,40,26,40],[25,41,26,41],[25,42,26,42],[25,43,26,43],[25,44,26,44],[25,45,26,45],[25,46,26,46],[25,47,26,47],[25,48,26,48],[25,49,26,49],[25,50,26,50],[25,52,26,52],[25,53,26,53],[25,54,26,54],[23,25,24,25],[25,25,26,25],[23,26,24,26],[25,26,26,26],[25,36,26,36],[23,37,24,37],[25,37,26,37],[23,38,24,38],[25,38,26,38],[23,39,24,39],[23,40,24,40],[23,41,24,41],[23,42,24,42],[23,43,24,43],[23,44,24,44],[23,45,24,45],[23,46,24,46],[165,52,166,52],[23,9,24,9],[25,9,26,9],[23,10,24,10],[25,10,26,10],[23,11,24,11],[25,11,26,11],[23,12,24,12],[25,12,26,12],[23,13,24,13],[25,13,26,13],[23,14,24,14],[25,14,26,14],[23,15,24,15],[25,15,26,15],[23,16,24,16],[25,16,26,16],[23,17,24,17],[25,17,26,17],[23,18,24,18],[25,18,26,18],[23,19,24,19],[25,19,26,19],[23,20,24,20],[25,20,26,20],[23,21,24,21],[25,21,26,21],[23,22,24,22],[25,22,26,22],[23,23,24,23],[25,23,26,23],[23,24,24,24],[9,54,10,54],[85,53,86,53],[63,1,64,1],[63,48,64,48],[63,49,64,49],[63,50,64,50],[135,1,135,2],[136,1,136,2],[137,1,137,2],[138,1,138,2],[187,1,187,2],[188,1,188,2],[189,1,189,2],[190,1,190,2],[99,1,99,2],[100,1,100,2],[69,49,70,49],[69,50,70,50],[69,52,70,52],[69,53,70,53],[89,1,90,1],[89,48,90,48],[89,49,90,49],[89,50,90,50],[89,52,90,52],[75,21,76,21],[75,22,76,22],[75,23,76,23],[114,1,114,2],[115,1,115,2],[116,1,116,2],[165,50,166,50],[14,1,14,2],[3,1,4,1],[5,1,6,1],[7,1,8,1],[7,48,8,48],[7,49,8,49],[7,50,8,50],[7,52,8,52],[3,48,4,48],[3,49,4,49],[7,53,8,53],[3,52,4,52],[3,53,4,53],[5,48,6,48],[5,49,6,49],[11,1,11,2],[13,1,13,2],[5,50,6,50],[5,52,6,52],[5,53,6,53],[12,1,12,2],[9,1,10,1],[9,48,10,48],[9,49,10,49],[9,50,10,50],[9,52,10,52],[9,53,10,53],[9,19,10,19],[9,20,10,20],[9,21,10,21],[9,22,10,22],[9,23,10,23],[35,1,36,1],[35,48,36,48],[101,1,101,2],[102,1,102,2],[183,54,184,54],[121,1,122,1],[121,48,122,48],[121,49,122,49],[121,50,122,50],[121,52,122,52],[121,53,122,53],[121,54,122,54],[85,54,86,54],[85,1,86,1],[3,50,4,50],[183,48,184,48],[183,49,184,49],[183,50,184,50],[183,52,184,52],[183,53,184,53],[35,54,36,54],[175,1,175,2],[176,1,176,2],[177,1,177,2],[178,1,178,2],[165,1,166,1],[165,48,166,48],[165,49,166,49],[65,51,66,51],[3,54,4,54],[5,54,6,54],[7,54,8,54],[85,52,86,52],[65,54,66,54],[67,1,68,1],[67,48,68,48],[67,49,68,49],[67,50,68,50],[67,52,68,52],[67,53,68,53],[67,54,68,54],[69,1,70,1],[69,48,70,48],[73,50,74,50],[73,52,74,52],[73,53,74,53],[73,54,74,54],[69,20,70,20],[69,21,70,21],[69,22,70,22],[69,23,70,23],[69,24,70,24],[69,25,70,25],[69,26,70,26],[69,27,70,27],[75,25,76,25],[75,26,76,26],[75,27,76,27],[75,28,76,28],[75,29,76,29],[75,30,76,30],[75,31,76,31],[75,32,76,32],[75,33,76,33],[49,54,50,54],[55,1,55,2],[56,1,56,2],[80,1,80,2],[79,1,79,2],[77,1,77,2],[78,1,78,2],[183,1,184,1],[63,52,64,52],[63,53,64,53],[63,54,64,54],[69,54,70,54],[71,1,72,1],[71,48,72,48],[71,49,72,49],[71,50,72,50],[71,52,72,52],[71,53,72,53],[71,54,72,54],[73,1,74,1],[73,48,74,48],[73,49,74,49],[169,51,170,51],[165,53,166,53],[165,54,166,54],[123,1,124,1],[123,48,124,48],[123,49,124,49],[123,50,124,50],[85,48,86,48],[85,49,86,49],[85,50,86,50],[49,48,50,48],[49,49,50,49],[49,50,50,50],[49,52,50,52],[49,53,50,53],[51,53,52,53],[51,54,52,54],[65,1,66,1],[65,48,66,48],[57,1,57,2],[58,1,58,2],[65,49,66,49],[65,50,66,50],[65,52,66,52],[65,53,66,53],[53,21,54,21],[53,22,54,22],[53,23,54,23],[53,24,54,24],[53,25,54,25],[53,26,54,26],[53,27,54,27],[53,28,54,28],[49,18,50,18],[49,19,50,19],[49,20,50,20],[49,21,50,21],[49,22,50,22],[49,23,50,23],[49,24,50,24],[63,51,64,51],[63,21,64,21],[35,49,36,49],[35,50,36,50],[35,52,36,52],[35,53,36,53],[107,1,108,1],[107,48,108,48],[107,49,108,49],[107,50,108,50],[107,52,108,52],[107,53,108,53],[107,54,108,54],[113,1,113,2],[185,1,186,1],[185,48,186,48],[185,49,186,49],[185,50,186,50],[185,52,186,52],[185,53,186,53],[185,54,186,54],[39,1,40,1],[39,3,40,3],[39,4,40,4],[39,5,40,5],[39,6,40,6],[39,7,40,7],[39,8,40,8],[39,9,40,9],[39,10,40,10],[39,11,40,11],[39,12,40,12],[39,13,40,13],[167,51,168,51],[27,1,27,2],[28,1,28,2],[29,1,29,2],[30,1,30,2],[19,1,20,1],[19,48,20,48],[19,49,20,49],[19,50,20,50],[19,52,20,52],[19,53,20,53],[21,1,22,1],[21,48,22,48],[21,49,22,49],[21,50,22,50]],"merged_total":2811,"flags":["merged_cut"]}
[]
[null,"CONSEJO SUPERIOR"]
[null,"PLANCHA","CANDIDATO","M1","M2","M3","M4","M5","M6","M7","M8","M9","M10","M11","M12","M13","M14","M15","M16","M17","M18","M19","M20","M21","M22","M23","M24","M25","M26","M27","M28","M29","M30","M31","M32","M33","M34","M35","M36","M37","M38","M39","M40","M41","M42","M43","M44","M45","M46","M47","M48","M49","M50","M51","TOTALES"]
[null,"Plancha Retirada","LEONARDO DAVID NIEBLES NUÑEZ",null,null,null,null,null,null,null,null,null,null,null,null,null,null,null,null,null,null,null,null,null,null,null,null,null,null,null,null,null,null,null,null,null,null,null,null,null,null,null,null,null,null,null,null,null,null,null,null,null,null,null,{"$f":"+SUM(D4:BB5)","v":0}]
[null,null,"MIGUEL ANGEL RAMOS PALM"]
[null,2,"LEYTON DANIEL BARRIOS TORRES",121,157,57,165,180,123,109,155,176,96,66,82,164,96,147,126,119,71,63,60,72,107,161,43,51,46,39,51,52,53,51,60,47,30,55,47,60,58,86,74,27,32,37,54,70,72,61,61,54,83,126,{"$f":"+SUM(D6:BB7)","v":4253}]
[null,null,"WILLIAM LUENGAS CUELLO"]
[null,3,"LINO JUNIOR PEREIRA MONTERROZA",null,1,null,null,null,1,null,2,2,1,null,null,null,null,3,2,1,5,1,null,2,null,2,null,null,null,null,2,1,null,1,2,1,1,null,null,null,2,1,1,null,null,1,1,1,1,2,1,null,2,null,{"$f":"+SUM(D8:BB9)","v":44}]
[null,null,"JESUS ROBERTO MACHACON ORTIZ"]
[null,4,"GUSTAVO HUMBERTO ROJAS MORALES",77,123,36,119,72,59,114,114,89,56,39,87,102,72,63,83,72,47,103,77,89,90,59,47,79,53,48,52,49,67,43,53,49,30,26,49,26,19,26,36,57,20,23,37,34,23,53,45,22,49,141,{"$f":"+SUM(D10:BB11)","v":3098}]
[null,null,"MEDARDO HUMBERTO DRAGO LEON"]
[null,"VOTOS  EN BLANCO",null,6,12,3,4,6,7,8,15,14,4,5,14,14,7,6,13,7,6,3,1,3,8,13,1,1,4,2,2,null,4,4,7,13,7,6,4,6,12,13,9,null,1,5,6,9,25,9,5,4,15,7,{"$f":"+SUM(D12:BB12)","v":360}]
[null,"VOTOS NULOS",null,9,3,null,3,2,1,3,1,2,null,null,null,null,1,3,1,2,5,1,null,1,3,3,2,3,1,null,null,null,1,null,null,1,null,null,2,1,1,3,1,null,null,null,null,3,null,1,1,null,null,4,{"$f":"+SUM(D13:BB13)","v":69}]
[null,"TARJETONES SIN MARCAR",null,null,1,null,0,1,0,null,1,null,null,null,null,null,null,1,null,null,null,2,null,1,1,null,null,null,null,null,null,null,null,null,null,null,null,null,1,null,null,null,null,null,null,null,null,null,null,null,null,null,null,2,{"$f":"+SUM(D14:BB14)","v":11}]
[null,"TOTAL VOTOS ",null,{"$f":"+SUM(D4:D14)","v":213},297,96,291,261,191,234,288,283,157,110,183,280,176,223,225,201,134,173,138,168,209,238,93,134,104,89,107,102,125,99,122,111,68,87,103,93,92,129,121,84,53,66,98,117,{"$f":"+SUM(AW4:AW14)","v":121},126,113,80,149,280,7835]
[]
[]
[null,"CONSEJO FACULTAD DE ARQUITECTURA"]
[null,"PLANCHA","CANDIDATO","M1","M2","M3","M4","M5","M6","M7","M8","M9","M10","M11","M12","M13","M14","M15","M16","M17","M18","M19","M20","M21","M22","M23","M24","M25","M26","M27","M28","M29","M30","M31","M32","M33","M34","M35","M36","M37","M38","M39","M40","M41","M42","M43","M44","M45","M46","M47","M48","M49","M50","M51","TOTALES"]
[null,5,"JOSE CARLOS CAMPO ORTIZ",null,null,null,null,null,null,null,null,null,null,null,null,null,null,null,null,null,null,null,null,null,null,null,null,null,null,null,null,null,null,null,null,null,null,null,null,null,null,null,null,10,15,28,22,null,null,null,null,null,null,3,{"$f":"+SUM(D20:BB21)","v":78}]
[null,null,"MARCOS CASTRO HENRIQUEZ"]
[null,6,"YEHOSHUA DAVID SANCHEZ BUELVAS",null,null,null,null,null,null,null,null,null,null,null,null,null,null,null,null,null,null,null,null,null,null,null,null,null,null,null,null,null,null,null,null,null,null,null,null,null,null,null,null,4,6,7,21,null,null,null,null,null,null,1,{"$f":"+SUM(D22:BB23)","v":39}]
[null,null,"RICARDO ALFONSO FONSECA OSPINO"]
[null,7,"ALFONSO CAMARGO ALVAREZ",null,null,null,null,null,null,null,null,null,null,null,null,null,null,null,null,null,null,null,null,null,null,null,null,null,null,null,null,null,null,null,null,null,null,null,null,null,null,null,null,46,16,16,6,null,null,null,null,null,null,9,{"$f":"+SUM(D24:BB25)","v":93}]
[null,null,"IVAN ARMANDO NAVARRO ARZUZA"]
[null,8,"MANUEL VICENTE LLINAS OSORIO",null,null,null,null,null,null,null,null,null,null,null,null,null,null,null,null,null,null,null,null,null,null,null,null,null,null,null,null,null,null,null,null,null,null,null,null,null,null,null,null,15,8,8,35,null,null,null,null,null,null,3,{"$f":"+SUM(D26:BB27)","v":69}]
[null,null,"JOSE MIGUEL ORTEGA PISCIOTTI"]
[null,"VOTOS  EN BLANCO",null,null,null,null,null,null,null,null,null,null,null,null,null,null,null,null,null,null,null,null,null,null,null,null,null,null,null,null,null,null,null,null,null,null,null,null,null,null,null,null,null,5,6,7,10,null,null,null,null,null,null,null,{"$f":"+SUM(D28:BB28)","v":28}]
[null,"VOTOS NULOS",null,null,null,null,null,null,null,null,null,null,null,null,null,null,null,null,null,null,null,null,null,null,null,null,null,null,null,null,null,null,null,null,null,null,null,null,null,null,null,null,null,1,3,null,null,null,null,null,null,null,null,null,{"$f":"+SUM(D29:BB29)","v":4}]
[null,"TARJETONES SIN MARCAR",null,null,null,null,null,null,null,null,null,null,null,null,null,null,null,null,null,null,null,null,null,null,null,null,null,null,null,null,null,null,null,null,null,null,null,null,null,null,null,null,null,3,null,1,4,null,null,null,null,null,null,null,{"$f":"+SUM(D30:BB30)","v":8}]
[null,"TOTAL VOTOS ",null,{"$f":"+SUM(D20:D30)","v":0},0,0,0,0,0,0,0,0,0,0,0,0,0,0,0,0,0,0,0,0,0,0,0,0,0,0,0,0,0,0,0,0,0,0,0,0,0,0,0,84,54,67,98,0,{"$f":"+SUM(AW20:AW30)","v":0},0,0,0,0,16,319]
[]
[]
[null,"CONSEJO FACULTAD DE BELLAS ARTES"]
[null,"PLANCHA","CANDIDATO","M1","M2","M3","M4","M5","M6","M7","M8","M9","M10","M11","M12","M13","M14","M15","M16","M17","M18","M19","M20","M21","M22","M23","M24","M25","M26","M27","M28","M29","M30","M31","M32","M33","M34","M35","M36","M37","M38","M39","M40","M41","M42","M43","M44","M45","M46","M47","M48","M49","M50","M51","TOTALES"]
[null,9,"BIBIANA FABIOLA HERNANDEZ SOLARTE",null,null,null,null,null,null,null,null,null,null,null,null,null,null,null,null,null,null,null,null,null,null,null,null,null,null,null,null,null,null,null,null,null,null,null,null,null,null,null,null,null,null,null,null,null,null,null,null,null,51,0,{"$f":"+SUM(D36:BB37)","v":51}]
[null,null,"GLORIA DE JESUS MALDONADO DE LA TORRE"]
[null,10,"RAFAEL EDUARDO BROCHERO DITA",null,null,null,null,null,null,null,null,null,null,null,null,null,null,null,null,null,null,null,null,null,null,null,null,null,null,null,null,null,null,null,null,null,null,null,null,null,null,null,null,null,null,null,null,null,null,null,null,null,3,1,{"$f":"+SUM(D38:BB39)","v":4}]
[null,null,"RICARDO FIDEL MONTENEGRO VEGA"]
[null,11,"DAIRO EFREN BARRIOSNUEVO MARIN",null,null,null,null,null,null,null,null,null,null,null,null,null,null,null,null,null,null,null,null,null,null,null,null,null,null,null,null,null,null,null,null,null,null,null,null,null,null,null,null,null,null,null,null,null,null,null,null,null,57,0,{"$f":"+SUM(D40:BB41)","v":57}]
[null,null,"ALEX ENRIQUE GALLARDO ALBA"]
[null,"VOTOS  EN BLANCO",null,null,null,null,null,null,null,null,null,null,null,null,null,null,null,null,null,null,null,null,null,null,null,null,null,null,null,null,null,null,null,null,null,null,null,null,null,null,null,null,null,null,null,null,null,null,null,null,null,null,32,null,{"$f":"+SUM(D42:BB42)","v":32}]
[null,"VOTOS NULOS",null,null,null,null,null,null,null,null,null,null,null,null,null,null,null,null,null,null,null,null,null,null,null,null,null,null,null,null,null,null,null,null,null,null,null,null,null,null,null,null,null,null,null,null,null,null,null,null,null,null,6,null,{"$f":"+SUM(D43:BB43)","v":6}]
[null,"TARJETONES SIN MARCAR",null,null,null,null,null,null,null,null,null,null,null,null,null,null,null,null,null,null,null,null,null,null,null,null,null,null,null,null,null,null,null,null,null,null,null,null,null,null,null,null,null,null,null,null,null,null,null,null,null,null,null,null,{"$f":"SUM(D44:BB44)","v":0}]
[null,"TOTAL VOTOS ",null,{"$f":"+SUM(D36:D44)","v":0},0,0,0,0,0,0,0,0,0,0,0,0,0,0,0,0,0,0,0,0,0,0,0,0,0,0,0,0,0,0,0,0,0,0,0,0,0,0,0,0,0,0,0,0,0,0,0,0,149,1,150]
[]
[]
[null,"CONSEJO FACULTAD DE CIENCIAS BÁSICAS"]
[null,"PLANCHA","CANDIDATO","M1","M2","M3","M4","M5","M6","M7","M8","M9","M10","M11","M12","M13","M14","M15","M16","M17","M18","M19","M20","M21","M22","M23","M24","M25","M26","M27","M28","M29","M30","M31","M32","M33","M34","M35","M36","M37","M38","M39","M40","M41","M42","M43","M44","M45","M46","M47","M48","M49","M50","M51","TOTALES"]
[null,12,"LUIS RICARDO DIAZGRANADOS SALGADO",null,null,null,null,null,null,null,null,null,null,null,null,null,null,null,null,null,null,null,null,null,null,null,null,null,null,null,null,null,null,null,null,null,null,null,null,null,null,60,38,null,null,null,null,null,null,null,null,null,null,5,{"$f":"+SUM(D50:BB51)","v":103}]
[null,null,"SANDRA MARCELA ARRIETA MARQUEZ"]
[null,13,"ANDRES FERNANDO POLO HERNANDEZ",null,null,null,null,null,null,null,null,null,null,null,null,null,null,null,null,null,null,null,null,null,null,null,null,null,null,null,null,null,null,null,null,null,null,null,null,null,null,14,39,null,null,null,null,null,null,null,null,null,null,null,{"$f":"+SUM(D52:BB53)","v":53}]
[null,null,"FREDYS SANCHEZ CATALAN"]
[null,14,"DONALDO ANTONIO BURGOS HERNÁNDEZ",null,null,null,null,null,null,null,null,null,null,null,null,null,null,null,null,null,null,null,null,null,null,null,null,null,null,null,null,null,null,null,null,null,null,null,null,null,null,32,29,null,null,null,null,null,null,null,null,null,null,null,{"$f":"+SUM(D54:BB55)","v":61}]
[null,null,"MARIA ANGELICA SERJE ARIAS"]
[".","VOTOS  EN BLANCO",null,null,null,null,null,null,null,null,null,null,null,null,null,null,null,null,null,null,null,null,null,null,null,null,null,null,null,null,null,null,null,null,null,null,null,null,null,null,null,18,14,null,null,null,null,null,null,null,null,null,null,null,{"$f":"+SUM(D56:BB56)","v":32}]
[".","VOTOS NULOS",null,null,null,null,null,null,null,null,null,null,null,null,null,null,null,null,null,null,null,null,null,null,null,null,null,null,null,null,null,null,null,null,null,null,null,null,null,null,null,5,null,null,null,null,null,null,null,null,null,null,null,null,{"$f":"+SUM(D57:BB57)","v":5}]
[null,"TARJETONES SIN MARCAR",null,null,null,null,null,null,null,null,null,null,null,null,null,null,null,null,null,null,null,null,null,null,null,null,null,null,null,null,null,null,null,null,null,null,null,null,null,null,null,null,1,null,null,null,null,null,null,null,null,null,null,null,{"$f":"+SUM(D58:BB58)","v":1}]
[null,"TOTAL VOTOS ",null,{"$f":"+SUM(D50:D58)","v":0},0,0,0,0,0,0,0,0,0,0,0,0,0,0,0,0,0,0,0,0,0,0,0,0,0,0,0,0,0,0,0,{"$f":"+SUM(AJ50:AJ58)","v":0},0,0,0,0,0,129,121,0,0,0,0,0,0,0,0,0,0,5,255]
[]
[]
[null,"CONSEJO FACULTAD CIENCIAS DE LA EDUCACIÓN"]
[null,"PLANCHA","CANDIDATO","M1","M2","M3","M4","M5","M6","M7","M8","M9","M10","M11","M12","M13","M14","M15","M16","M17","M18","M19","M20","M21","M22","M23","M24","M25","M26","M27","M28","M29","M30","M31","M32","M33","M34","M35","M36","M37","M38","M39","M40","M41","M42","M43","M44","M45","M46","M47","M48","M49","M50","M51","TOTALES"]
[null,15,"JORGE VIANA RODRIGUEZ",7,13,4,9,5,12,9,6,11,8,7,4,5,8,15,11,6,5,null,null,null,null,null,null,null,null,null,null,null,null,null,null,null,null,null,null,null,null,null,null,null,null,null,null,null,null,null,null,null,null,6,{"$f":"+SUM(D64:BB65)","v":151}]
[null,null,"CARLOS EMILIO CAMARGO GUZMAN"]
[null,16,"LUIS CARLOS RIQUET ALEMAN",57,81,20,76,68,66,56,67,91,46,25,60,94,53,65,50,58,26,null,null,null,null,null,null,null,null,null,null,null,null,null,null,null,null,null,null,null,null,null,null,null,null,null,null,null,null,null,null,null,null,41,{"$f":"+SUM(D66:BB67)","v":1100}]
[null,null,"RICARDO MANUEL VILLEGAS PADILLA"]
[null,17,"HUGO HUMBERTO BUELVAS FONTALVO",11,9,3,8,12,9,6,9,9,2,2,4,5,11,7,14,8,6,null,null,null,null,null,null,null,null,null,null,null,null,null,null,null,null,null,null,null,null,null,null,null,null,null,null,null,null,null,null,null,null,9,{"$f":"+SUM(D68:BB69)","v":144}]
[null,null,"FARID MIGUEL VASQUEZ CASTRO"]
[null,18,"BRENDA VALENTINA PIANETA CANTILLO",22,27,18,43,46,31,25,38,43,24,19,17,35,22,44,42,27,29,null,null,null,null,null,null,null,null,null,null,null,null,null,null,null,null,null,null,null,null,null,null,null,null,null,null,null,null,null,null,null,null,28,{"$f":"+SUM(D70:BB71)","v":580}]
[null,null,"ANGELA TRILLOS MERCADO"]
[null,19,"JOAQUIN RAFAEL MOLINA ESCORCIA",58,98,26,80,52,40,75,92,55,43,29,42,75,35,41,51,43,29,null,null,null,null,null,null,null,null,null,null,null,null,null,null,null,null,null,null,null,null,null,null,null,null,null,null,null,null,null,null,null,null,75,{"$f":"+SUM(D72:BB73)","v":1039}]
[null,null,"DIANA LUZ SALAS MARTINEZ"]
[null,20,"RAFAEL RUBEN ROMO SANCHEZ",4,4,0,4,3,4,4,6,4,1,1,5,2,5,1,2,3,null,null,null,null,null,null,null,null,null,null,null,null,null,null,null,null,null,null,null,null,null,null,null,null,null,null,null,null,null,null,null,null,null,4,{"$f":"+SUM(D74:BB75)","v":57}]
[null,null,"HECTOR ENRIQUE TORRENEGRA AYALA"]
[null,21,"MARTHA DE JESUS MONTENEGRO GONZALEZ",13,15,6,25,12,9,22,24,24,11,6,12,17,8,7,11,10,6,null,null,null,null,null,null,null,null,null,null,null,null,null,null,null,null,null,null,null,null,null,null,null,null,null,null,null,null,null,null,null,null,12,{"$f":"+SUM(D76:BB77)","v":250}]
[null,null,"MARLENE OCHOA MARTINEZ"]
[null,"VOTOS  EN BLANCO",null,24,42,9,29,39,19,25,38,34,19,17,32,43,29,32,40,32,28,null,null,null,null,null,null,null,null,null,null,null,null,null,null,null,null,null,null,null,null,null,null,null,null,null,null,null,null,null,null,null,null,15,{"$f":"+SUM(D78:BB78)","v":546}]
[null,"VOTOS NULOS",null,12,2,null,null,1,null,1,1,null,1,null,null,1,null,1,1,2,3,null,null,null,null,null,null,null,null,null,null,null,null,null,null,null,null,null,null,null,null,null,null,null,null,null,null,null,null,null,null,null,null,2,{"$f":"+SUM(D79:BB79)","v":28}]
[null,"TARJETONES SIN MARCAR",null,6,6,10,18,23,null,11,7,12,2,4,7,2,5,7,3,12,2,null,null,null,null,null,null,null,null,null,null,null,null,null,null,null,null,null,null,null,null,null,null,null,null,null,null,null,null,null,null,null,null,4,{"$f":"+SUM(D80:BB80)","v":141}]
[null,"TOTAL VOTOS ",null,{"$f":"+SUM(D64:D80)","v":214},297,96,292,261,190,234,288,283,157,110,183,279,176,220,225,201,134,0,0,0,0,0,0,0,0,0,0,0,0,0,0,0,0,0,0,0,0,0,0,0,0,0,0,0,{"$f":"+SUM(AW64:AW80)","v":0},0,0,0,0,196,4036]
[]
[]
[null,"CONSEJO DE FACULTAD DE CIENCIAS ECONÓMICAS"]
[null,"PLANCHA","CANDIDATO","M1","M2","M3","M4","M5","M6","M7","M8","M9","M10","M11","M12","M13","M14","M15","M16","M17","M18","M19","M20","M21","M22","M23","M24","M25","M26","M27","M28","M29","M30","M31","M32","M33","M34","M35","M36","M37","M38","M39","M40","M41","M42","M43","M44","M45","M46","M47","M48","M49","M50","M51","TOTALES"]
[null,22,"EDER POLO SANDOVAL",null,null,null,null,null,null,null,null,null,null,null,null,null,null,null,null,null,null,null,null,null,null,null,10,14,14,12,20,21,24,26,12,11,null,null,null,null,null,null,null,null,null,null,null,null,null,null,null,null,null,3,{"$f":"+SUM(D86:BB87)","v":167}]
[null,null,"ALEXANDER CANTILLO MARQUEZ"]
[null,23,"ELIANA MERCEDES NOVOA BOHORQUEZ",null,null,null,null,null,null,null,null,null,null,null,null,null,null,null,null,null,null,null,null,null,null,null,12,24,20,24,17,12,8,22,21,38,null,null,null,null,null,null,null,null,null,null,null,null,null,null,null,null,null,0,{"$f":"+SUM(D88:BB89)","v":198}]
[null,null,"MELINA JOSE DE LA ROSA PEREZ"]
[null,24,"JAVIER JOSE NUÑEZ AMARIS",null,null,null,null,null,null,null,null,null,null,null,null,null,null,null,null,null,null,null,null,null,null,null,4,3,5,2,4,5,5,2,2,0,null,null,null,null,null,null,null,null,null,null,null,null,null,null,null,null,null,1,{"$f":"+SUM(D90:BB91)","v":33}]
[null,null,"GUIDO RAFAEL TEHERAN MARTINEZ"]
[null,25,"YARITZA PAOLA GONZALEZ PEREA",null,null,null,null,null,null,null,null,null,null,null,null,null,null,null,null,null,null,null,null,null,null,null,14,11,12,6,15,14,21,19,41,33,null,null,null,null,null,null,null,null,null,null,null,null,null,null,null,null,null,1,{"$f":"+SUM(D92:BB93)","v":187}]
[null,null,"JOSE RAFAEL PUA ORTEGA"]
[null,26,"IVAN RENE TOVAR JIMENEZ",null,null,null,null,null,null,null,null,null,null,null,null,null,null,null,null,null,null,null,null,null,null,null,22,36,23,21,31,14,37,17,24,27,null,null,null,null,null,null,null,null,null,null,null,null,null,null,null,null,null,1,{"$f":"+SUM(D94:BB95)","v":253}]
[null,null,"JOSE LUIS BOLAÑO RIVERA"]
[null,27,"FABIAN ENRIQUE MONSALVO OLMOS",null,null,null,null,null,null,null,null,null,null,null,null,null,null,null,null,null,null,null,null,null,null,null,4,10,6,14,4,17,14,3,4,2,null,null,null,null,null,null,null,null,null,null,null,null,null,null,null,null,null,0,{"$f":"+SUM(D96:BB97)","v":78}]
[null,null,"CINDY JOHANA ROMERO MERCADO"]
[null,28,"RESNITH ALBERTO CABALLERO CONTRERA",null,null,null,null,null,null,null,null,null,null,null,null,null,null,null,null,null,null,null,null,null,null,null,10,18,8,0,2,6,2,1,0,1,null,null,null,null,null,null,null,null,null,null,null,null,null,null,null,null,null,4,{"$f":"+SUM(D98:BB99)","v":52}]
[null,null,"NICOLAS MIGUEL OLIVO ANGULO"]
[null,"VOTOS  EN BLANCO",null,null,null,null,null,null,null,null,null,null,null,null,null,null,null,null,null,null,null,null,null,null,null,null,10,11,12,6,12,12,12,9,17,4,null,null,null,null,null,null,null,null,null,null,null,null,null,null,null,null,null,1,{"$f":"+SUM(D100:BB100)","v":106}]
[null,"VOTOS NULOS",null,null,null,null,null,null,null,null,null,null,null,null,null,null,null,null,null,null,null,null,null,null,null,null,7,0,0,4,2,1,1,0,0,0,null,null,null,null,null,null,null,null,null,null,null,null,null,null,null,null,null,1,{"$f":"+SUM(D101:BB101)","v":16}]
[null,"TARJETONES SIN MARCAR",null,null,null,null,null,null,null,null,null,null,null,null,null,null,null,null,null,null,null,null,null,null,null,null,0,7,4,0,0,0,1,0,1,0,null,null,null,null,null,null,null,null,null,null,null,null,null,null,null,null,null,2,{"$f":"+SUM(D102:BB102)","v":15}]
[null,"TOTAL VOTOS",null,{"$f":"+SUM(D86:D102)","v":0},0,0,0,0,0,0,0,0,0,0,0,0,0,0,0,0,0,0,0,0,0,0,93,134,104,89,107,102,125,99,122,116,0,0,0,0,0,0,0,0,0,0,0,0,{"$f":"+SUM(AW86:AW102)","v":0},0,0,0,0,14,1105]
[]
[]
[null,"CONSEJO FACULTAD DE CIENCIAS HUMANAS"]
[null,"PLANCHA","CANDIDATO","M1","M2","M3","M4","M5","M6","M7","M8","M9","M10","M11","M12","M13","M14","M15","M16","M17","M18","M19","M20","M21","M22","M23","M24","M25","M26","M27","M28","M29","M30","M31","M32","M33","M34","M35","M36","M37","M38","M39","M40","M41","M42","M43","M44","M45","M46","M47","M48","M49","M50","M51","TOTALES"]
[null,29,"CRISTIAN DE JESUS ANDION ANGULO",null,null,null,null,null,null,null,null,null,null,null,null,null,null,null,null,null,null,null,null,null,null,null,null,null,null,null,null,null,null,null,null,null,null,null,null,null,null,null,null,null,null,null,null,null,null,25,null,null,null,1,{"$f":"+SUM(D108:BB109)","v":26}]
[null,null,"MIGUEL ANGELLO RHENALS DIAZ"]
[null,30,"MOISES DAVID MARIMON PERALTA",null,null,null,null,null,null,null,null,null,null,null,null,null,null,null,null,null,null,null,null,null,null,null,null,null,null,null,null,null,null,null,null,null,null,null,null,null,null,null,null,null,null,null,null,null,null,64,null,null,null,0,{"$f":"+SUM(D110:BB111)","v":64}]
[null,null,"ANGELICA PATRICIA SANTIS NOVA"]
[null,31,"FABIO JOSE MENDOZA DIAZ",null,null,null,null,null,null,null,null,null,null,null,null,null,null,null,null,null,null,null,null,null,null,null,null,null,null,null,null,null,null,null,null,null,null,null,null,null,null,null,null,null,null,null,null,null,null,18,null,null,null,0,{"$f":"+SUM(D112:BB113)","v":18}]
[null,null,"OMAR  JOSE RODRIGUEZ CANENCIA"]
[null,"VOTOS  EN BLANCO",null,null,null,null,null,null,null,null,null,null,null,null,null,null,null,null,null,null,null,null,null,null,null,null,null,null,null,null,null,null,null,null,null,null,null,null,null,null,null,null,null,null,null,null,null,null,null,17,null,null,null,1,{"$f":"+SUM(D114:BB114)","v":18}]
[null,"VOTOS NULOS",null,null,null,null,null,null,null,null,null,null,null,null,null,null,null,null,null,null,null,null,null,null,null,null,null,null,null,null,null,null,null,null,null,null,null,null,null,null,null,null,null,null,null,null,null,null,null,2,null,null,null,0,{"$f":"+SUM(D115:BB115)","v":2}]
[null,"TARJETONES SIN MARCAR",null,null,null,null,null,null,null,null,null,null,null,null,null,null,null,null,null,null,null,null,null,null,null,null,null,null,null,null,null,null,null,null,null,null,null,null,null,null,null,null,null,null,null,null,null,null,null,0,null,null,null,0,{"$f":"+SUM(D116:BB116)","v":0}]
[null,"TOTAL VOTOS ",null,{"$f":"+SUM(D108:D116)","v":0},0,0,0,0,0,0,0,0,0,0,0,0,0,0,0,0,0,0,0,0,0,0,0,0,0,0,0,0,0,0,0,0,0,0,0,0,0,0,0,0,0,0,0,0,{"$f":"+SUM(AW108:AW116)","v":0},126,0,0,0,2,128]
[]
[]
[null,"CONSEJO DE FACULTAD DE CIENCIAS JURÍDICAS"]
[null,"PLANCHA","CANDIDATO","M1","M2","M3","M4","M5","M6","M7","M8","M9","M10","M11","M12","M13","M14","M15","M16","M17","M18","M19","M20","M21","M22","M23","M24","M25","M26","M27","M28","M29","M30","M31","M32","M33","M34","M35","M36","M37","M38","M39","M40","M41","M42","M43","M44","M45","M46","M47","M48","M49","M50","M51","TOTALES"]
[null,32,"KAREN YOHANA GALVIS ESPITIA",null,null,null,null,null,null,null,null,null,null,null,null,null,null,null,null,null,null,42,32,37,75,72,null,null,null,null,null,null,null,null,null,null,null,null,null,null,null,null,null,null,null,null,null,null,null,null,null,null,null,2,{"$f":"+SUM(D122:BB123)","v":260}]
[null,null,"ALBERTO RAFAEL MOLINA RAMOS"]
[null,33,"HILDA ROSA BUSTILLO FIERRO",null,null,null,null,null,null,null,null,null,null,null,null,null,null,null,null,null,null,28,20,29,16,12,null,null,null,null,null,null,null,null,null,null,null,null,null,null,null,null,null,null,null,null,null,null,null,null,null,null,null,12,{"$f":"+SUM(D124:BB125)","v":117}]
[null,null,"ROLANDO ALBERTO GERLEIN MARTINEZ"]
[null,34,"MAYERLIN PADILLA FONTALVO",null,null,null,null,null,null,null,null,null,null,null,null,null,null,null,null,null,null,32,18,28,34,13,null,null,null,null,null,null,null,null,null,null,null,null,null,null,null,null,null,null,null,null,null,null,null,null,null,null,null,2,{"$f":"+SUM(D126:BB127)","v":127}]
[null,null,"LUIS EDUARDO ALARCON PRADA"]
[null,35,"ESTEFANY DEL CARMEN ARROYO ESCUDERO",null,null,null,null,null,null,null,null,null,null,null,null,null,null,null,null,null,null,13,4,16,7,37,null,null,null,null,null,null,null,null,null,null,null,null,null,null,null,null,null,null,null,null,null,null,null,null,null,null,null,4,{"$f":"+SUM(D128:BB129)","v":81}]
[null,null,"KIMBERLY ZARITH VILLANUEVA LOPEZ"]
[null,36,"ANUAR EMUL DIAZ ATENCIA",null,null,null,null,null,null,null,null,null,null,null,null,null,null,null,null,null,null,12,8,6,10,33,null,null,null,null,null,null,null,null,null,null,null,null,null,null,null,null,null,null,null,null,null,null,null,null,null,null,null,0,{"$f":"+SUM(D130:BB131)","v":69}]
[null,null,"JANNETH MARIA GALAVIS LOPEZ"]
[null,37,"HARLEY MANOTAS DE LA HOZ",null,null,null,null,null,null,null,null,null,null,null,null,null,null,null,null,null,null,12,11,18,18,49,null,null,null,null,null,null,null,null,null,null,null,null,null,null,null,null,null,null,null,null,null,null,null,null,null,null,null,2,{"$f":"+SUM(D132:BB133)","v":110}]
[null,null,"JESUS ANTONIO LAZARO SALCEDO"]
[null,38,"PATRICIA ELENA VIEDMA GONZALEZ",null,null,null,null,null,null,null,null,null,null,null,null,null,null,null,null,null,null,17,26,28,34,8,null,null,null,null,null,null,null,null,null,null,null,null,null,null,null,null,null,null,null,null,null,null,null,null,null,null,null,6,{"$f":"+SUM(D134:BB135)","v":119}]
[null,null,"BLEYDIS MARIA FIGUEROA PALACIO"]
[null,"VOTOS  EN BLANCO",null,null,null,null,null,null,null,null,null,null,null,null,null,null,null,null,null,null,null,11,12,4,14,10,null,null,null,null,null,null,null,null,null,null,null,null,null,null,null,null,null,null,null,null,null,null,null,null,null,null,null,1,{"$f":"+SUM(D136:BB136)","v":52}]
[null,"VOTOS NULOS",null,null,null,null,null,null,null,null,null,null,null,null,null,null,null,null,null,null,null,2,0,0,1,2,null,null,null,null,null,null,null,null,null,null,null,null,null,null,null,null,null,null,null,null,null,null,null,null,null,null,null,0,{"$f":"+SUM(D137:BB137)","v":5}]
[null,"TARJETONES SIN MARCAR",null,null,null,null,null,null,null,null,null,null,null,null,null,null,null,null,null,null,null,4,7,2,null,2,null,null,null,null,null,null,null,null,null,null,null,null,null,null,null,null,null,null,null,null,null,null,null,null,null,null,null,0,{"$f":"+SUM(D138:BB138)","v":15}]
[null,"TOTAL VOTOS",null,{"$f":"+SUM(D122:D138)","v":0},0,0,0,0,0,0,0,0,0,0,0,0,0,0,0,0,0,173,138,168,209,238,0,0,0,0,0,0,0,0,0,0,0,0,0,0,0,0,0,0,0,0,0,0,{"$f":"+SUM(AW122:AW138)","v":0},0,0,0,0,29,955]
[]
[]
[null,"CONSEJO DE FACULTAD DE INGENIERÍA"]
[null,"PLANCHA","CANDIDATO","M1","M2","M3","M4","M5","M6","M7","M8","M9","M10","M11","M12","M13","M14","M15","M16","M17","M18","M19","M20","M21","M22","M23","M24","M25","M26","M27","M28","M29","M30","M31","M32","M33","M34","M35","M36","M37","M38","M39","M40","M41","M42","M43","M44","M45","M46","M47","M48","M49","M50","M51","TOTALES"]
[null,39,"NICOLAS SOLANO CONDE",null,null,null,null,null,null,null,null,null,null,null,null,null,null,null,null,null,null,null,null,null,null,null,null,null,null,null,null,null,null,null,null,null,10,12,21,3,1,null,null,null,null,null,null,null,null,null,null,null,null,1,{"$f":"+SUM(D144:BB145)","v":48}]
[null,null,"ORLANDO RAFAEL MONTIEL ORTEGA"]
[null,40,"STEPHANNY JULIETH YARALA DUARTE",null,null,null,null,null,null,null,null,null,null,null,null,null,null,null,null,null,null,null,null,null,null,null,null,null,null,null,null,null,null,null,null,null,11,10,16,34,41,null,null,null,null,null,null,null,null,null,null,null,null,0,{"$f":"+SUM(D146:BB147)","v":112}]
[null,null,"BETTY YANILETH PUELLO BORRERO"]
[null,41,"KATIUSCA VANESSA FLOREZ ROSALES",null,null,null,null,null,null,null,null,null,null,null,null,null,null,null,null,null,null,null,null,null,null,null,null,null,null,null,null,null,null,null,null,null,8,7,7,17,16,null,null,null,null,null,null,null,null,null,null,null,null,2,{"$f":"+SUM(D148:BB149)","v":57}]
[null,null,"JUAN GUILLERMO COHEN FONTALVO"]
[null,42,"MARIA BERNARDA ALVARADO BAWAB",null,null,null,null,null,null,null,null,null,null,null,null,null,null,null,null,null,null,null,null,null,null,null,null,null,null,null,null,null,null,null,null,null,13,17,10,14,12,null,null,null,null,null,null,null,null,null,null,null,null,4,{"$f":"+SUM(D150:BB151)","v":70}]
[null,null,"CARLOS EDUARDO HERNANDEZ LALINDE"]
[null,43,"CLAUDIA ISABEL RIVERA FONTALVO",null,null,null,null,null,null,null,null,null,null,null,null,null,null,null,null,null,null,null,null,null,null,null,null,null,null,null,null,null,null,null,null,null,3,18,14,4,5,null,null,null,null,null,null,null,null,null,null,null,null,0,{"$f":"+SUM(D152:BB153)","v":44}]
[null,null,"HOLLMANG MARLON SALTARIN VILORIA"]
[null,44,"LUIS GERARDO ALMANZA LLANOS",null,null,null,null,null,null,null,null,null,null,null,null,null,null,null,null,null,null,null,null,null,null,null,null,null,null,null,null,null,null,null,null,null,0,4,8,2,1,null,null,null,null,null,null,null,null,null,null,null,null,0,{"$f":"+SUM(D154:BB155)","v":15}]
[null,null,"ANDRES MAURICIO ROCHA MOLINA"]
[null,45,"WILSON JOSE HERRERA BALLESTAS",null,null,null,null,null,null,null,null,null,null,null,null,null,null,null,null,null,null,null,null,null,null,null,null,null,null,null,null,null,null,null,null,null,4,6,15,12,3,null,null,null,null,null,null,null,null,null,null,null,null,0,{"$f":"+SUM(D156:BB157)","v":40}]
[null,null,"ENRIQUE ALFONSO GARCIA PELUFFO"]
[null,"VOTOS  EN BLANCO",null,null,null,null,null,null,null,null,null,null,null,null,null,null,null,null,null,null,null,null,null,null,null,null,null,null,null,null,null,null,null,null,null,null,17,1,10,6,11,null,null,null,null,null,null,null,null,null,null,null,null,1,{"$f":"+SUM(D158:BB158)","v":46}]
[null,"VOTOS NULOS",null,null,null,null,null,null,null,null,null,null,null,null,null,null,null,null,null,null,null,null,null,null,null,null,null,null,null,null,null,null,null,null,null,null,0,null,1,1,2,null,null,null,null,null,null,null,null,null,null,null,null,0,{"$f":"+SUM(D159:BB159)","v":4}]
[null,"TARJETONES SIN MARCAR",null,null,null,null,null,null,null,null,null,null,null,null,null,null,null,null,null,null,null,null,null,null,null,null,null,null,null,null,null,null,null,null,null,null,2,null,1,null,null,null,null,null,null,null,null,null,null,null,null,null,null,0,{"$f":"+SUM(D160:BB160)","v":3}]
[null,"TOTAL VOTOS",null,{"$f":"+SUM(D144:D160)","v":0},0,0,0,0,0,0,0,0,0,0,0,0,0,0,0,0,0,0,0,0,0,0,0,0,0,0,0,0,0,0,0,0,68,75,103,93,92,0,0,0,0,0,0,0,{"$f":"+SUM(AW144:AW160)","v":0},0,0,0,0,8,439]
[]
[]
[null,"CONSEJO FACULTAD DE NUTRICION Y DIETETICA"]
[null,"PLANCHA","CANDIDATO","M1","M2","M3","M4","M5","M6","M7","M8","M9","M10","M11","M12","M13","M14","M15","M16","M17","M18","M19","M20","M21","M22","M23","M24","M25","M26","M27","M28","M29","M30","M31","M32","M33","M34","M35","M36","M37","M38","M39","M40","M41","M42","M43","M44","M45","M46","M47","M48","M49","M50","M51","TOTALES"]
[null,46,"BASILIA SEGUNDA OROZCO OROZCO",null,null,null,null,null,null,null,null,null,null,null,null,null,null,null,null,null,null,null,null,null,null,null,null,null,null,null,null,null,null,null,null,null,null,null,null,null,null,null,null,null,null,null,null,null,null,null,47,30,null,2,{"$f":"+SUM(D166:BB167)","v":79}]
[null,null,"LUCIA DEL CARMEN BARRIOS ZAMBRANO"]
[null,47,"ANTONIA ISABEL NIETO SANCHEZ",null,null,null,null,null,null,null,null,null,null,null,null,null,null,null,null,null,null,null,null,null,null,null,null,null,null,null,null,null,null,null,null,null,null,null,null,null,null,null,null,null,null,null,null,null,null,null,28,13,null,3,{"$f":"+SUM(D168:BB169)","v":44}]
[null,null,"ONEIDA ELENA BAYONA BARROS"]
[null,48,"LUCINDA ESTHER REYES MARIMON",null,null,null,null,null,null,null,null,null,null,null,null,null,null,null,null,null,null,null,null,null,null,null,null,null,null,null,null,null,null,null,null,null,null,null,null,null,null,null,null,null,null,null,null,null,null,null,26,15,null,1,{"$f":"+SUM(D170:BB171)","v":42}]
[null,null,"KAROLL DARLEY JIMENEZ LEON"]
[null,49,"IDANIS PAOLA DOMINGUEZ CALVO",null,null,null,null,null,null,null,null,null,null,null,null,null,null,null,null,null,null,null,null,null,null,null,null,null,null,null,null,null,null,null,null,null,null,null,null,null,null,null,null,null,null,null,null,null,null,null,4,16,null,0,{"$f":"+SUM(D172:BB173)","v":20}]
[null,null,"JESSICA PAOLA CAMPO ESTRADA"]
[null,50,"JANIETH ANDREA CARVAJAL BARRETO",null,null,null,null,null,null,null,null,null,null,null,null,null,null,null,null,null,null,null,null,null,null,null,null,null,null,null,null,null,null,null,null,null,null,null,null,null,null,null,null,null,null,null,null,null,null,null,0,2,null,0,{"$f":"+SUM(D174:BB175)","v":2}]
[null,null,"MARGARITA ROSA FIGUEROA DE AVILA"]
[null,"VOTOS  EN BLANCO",null,null,null,null,null,null,null,null,null,null,null,null,null,null,null,null,null,null,null,null,null,null,null,null,null,null,null,null,null,null,null,null,null,null,null,null,null,null,null,null,null,null,null,null,null,null,null,null,7,2,null,0,{"$f":"+SUM(D176:BB176)","v":9}]
[null,"VOTOS NULOS",null,null,null,null,null,null,null,null,null,null,null,null,null,null,null,null,null,null,null,null,null,null,null,null,null,null,null,null,null,null,null,null,null,null,null,null,null,null,null,null,null,null,null,null,null,null,null,null,1,0,null,0,{"$f":"+SUM(D177:BB177)","v":1}]
[null,"TARJETONES SIN MARCAR",null,null,null,null,null,null,null,null,null,null,null,null,null,null,null,null,null,null,null,null,null,null,null,null,null,null,null,null,null,null,null,null,null,null,null,null,null,null,null,null,null,null,null,null,null,null,null,null,0,2,null,0,{"$f":"+SUM(D178:BB178)","v":2}]
[null,"TOTAL VOTOS ",null,{"$f":"+SUM(D166:D178)","v":0},0,0,0,0,0,0,0,0,0,0,0,0,0,0,0,0,0,0,0,0,0,0,0,0,0,0,0,0,0,0,0,0,0,0,0,0,0,0,0,0,0,0,0,0,{"$f":"+SUM(AW166:AW178)","v":0},0,113,80,0,6,199]
[]
[]
[null,"CONSEJO DE FACULTAD DE QUÍMICA Y FARMACIA"]
[null,"PLANCHA","CANDIDATO","M1","M2","M3","M4","M5","M6","M7","M8","M9","M10","M11","M12","M13","M14","M15","M16","M17","M18","M19","M20","M21","M22","M23","M24","M25","M26","M27","M28","M29","M30","M31","M32","M33","M34","M35","M36","M37","M38","M39","M40","M41","M42","M43","M44","M45","M46","M47","M48","M49","M50","M51","TOTALES"]
[null,51,"JULIO CESAR BAYUELO FLOREZ",null,null,null,null,null,null,null,null,null,null,null,null,null,null,null,null,null,null,null,null,null,null,null,null,null,null,null,null,null,null,null,null,null,null,null,null,null,null,null,null,null,null,null,null,6,3,null,null,null,null,0,{"$f":"+SUM(D184:BB185)","v":9}]
[null,null,"DANIEL TRESPALACIOS RODRIGUEZ"]
[null,52,"ADALBERTO FELIX SEVILLA SERNA",null,null,null,null,null,null,null,null,null,null,null,null,null,null,null,null,null,null,null,null,null,null,null,null,null,null,null,null,null,null,null,null,null,null,null,null,null,null,null,null,null,null,null,null,86,78,null,null,null,null,2,{"$f":"+SUM(D186:BB187)","v":166}]
[null,null,"MARTIN LUIS ALVIS SERRANO"]
[null,"VOTOS  EN BLANCO",null,null,null,null,null,null,null,null,null,null,null,null,null,null,null,null,null,null,null,null,null,null,null,null,null,null,null,null,null,null,null,null,null,null,null,null,null,null,null,null,null,null,null,null,null,22,40,null,null,null,null,2,{"$f":"+SUM(D188:BB188)","v":64}]
[null,"VOTOS NULOS",null,null,null,null,null,null,null,null,null,null,null,null,null,null,null,null,null,null,null,null,null,null,null,null,null,null,null,null,null,null,null,null,null,null,null,null,null,null,null,null,null,null,null,null,null,4,null,null,null,null,null,0,{"$f":"+SUM(D189:BB189)","v":4}]
[null,"TARJETONES SIN MARCAR",null,null,null,null,null,null,null,null,null,null,null,null,null,null,null,null,null,null,null,null,null,null,null,null,null,null,null,null,null,null,null,null,null,null,null,null,null,null,null,null,null,null,null,null,null,0,null,null,null,null,null,0,{"$f":"+SUM(D190:BB190)","v":0}]
[null,"TOTAL VOTOS ",null,{"$f":"+SUM(D184:D190)","v":0},0,0,0,0,0,0,0,0,0,0,0,0,0,0,0,0,0,0,0,0,0,0,0,0,0,0,0,0,0,0,0,0,0,0,0,0,0,0,0,0,0,0,0,118,{"$f":"+SUM(AW184:AW190)","v":121},0,0,0,0,4,243]

{"sheet":"SUPERIOR","index":1,"n_rows":38,"n_cols":11,"rows_kept":38,"cut":false,"hidden":false,"merged":[[18,10,19,10],[10,10,12,10],[14,10,16,10],[0,5,2,11],[6,10,8,10],[3,2,3,11]]}
[null,null,null,null,null,"Elecciones de representantes de los egresados 2017"]
[]
[]
[null,null,"CONSEJO SUPERIOR"]
[]
[null,null,null,null,null,null,null,null,null,null,"TOTAL"]
[null,null,null,null,null,null,null,{"$f":"MESAS!C4","v":"LEONARDO DAVID NIEBLES NUÑEZ"},null,null,{"$f":"MESAS!BC4","v":0}]
[]
[null,null,null,null,null,null,null,{"$f":"MESAS!C5","v":"MIGUEL ANGEL RAMOS PALM"}]
[]
[null,null,null,null,null,null,null,{"$f":"MESAS!C6","v":"LEYTON DANIEL BARRIOS TORRES"},null,null,{"$f":"MESAS!BC6","v":4253}]
[]
[null,null,null,null,null,null,null,{"$f":"MESAS!C7","v":"WILLIAM LUENGAS CUELLO"}]
[]
[null,null,null,null,null,null,null,{"$f":"MESAS!C8","v":"LINO JUNIOR PEREIRA MONTERROZA"},null,null,{"$f":"MESAS!BC8","v":44}]
[]
[null,null,null,null,null,null,null,{"$f":"MESAS!C9","v":"JESUS ROBERTO MACHACON ORTIZ"}]
[]
[null,null,null,null,null,null,null,{"$f":"MESAS!C10","v":"GUSTAVO HUMBERTO ROJAS MORALES"},null,null,{"$f":"MESAS!BC10","v":3098}]
[null,null,null,null,null,null,null,{"$f":"MESAS!C11","v":"MEDARDO HUMBERTO DRAGO LEON"}]
[]
[]
[]
[null,null,null,null,null,null,null,null,null,null,"TOTAL"]
[null,null,null,null,null,null,null,"VOTOS EN BLANCO",null,null,{"$f":"MESAS!BC12","v":360}]
[]
[]
[null,null,null,null,null,null,null,null,null,null,"TOTAL"]
[null,null,null,null,null,null,null,"VOTOS NULOS",null,null,{"$f":"MESAS!BC13","v":69}]
[]
[]
[null,null,null,null,null,null,null,null,null,null,"TOTAL"]
[null,null,null,null,null,null,null,"TARJETONES SIN MARCAR",null,null,{"$f":"MESAS!BC14","v":11}]
[]
[]
[]
[]
[null,null,null,null,null,null,"VOTOS TOTALES",null,null,null,{"$f":"MESAS!BC15","v":7835}]

{"sheet":"ARQUITECTURA","index":2,"n_rows":36,"n_cols":11,"rows_kept":36,"cut":false,"hidden":false,"merged":[[18,10,20,10],[0,5,2,11],[3,2,3,11],[6,10,8,10],[10,10,12,10],[14,10,16,10]]}
[null,null,null,null,null,{"$f":"SUPERIOR!F1","v":"Elecciones de representantes de los egresados 2017"}]
[]
[]
[null,null,"CONSEJO DE FACULTAD DE ARQUITECTURA"]
[]
[null,null,null,null,null,null,null,null,null,null,"TOTAL"]
[null,null,null,null,null,null,null,{"$f":"MESAS!C20","v":"JOSE CARLOS CAMPO ORTIZ"},null,null,{"$f":"MESAS!BC20","v":78}]
[]
[null,null,null,null,null,null,null,{"$f":"MESAS!C21","v":"MARCOS CASTRO HENRIQUEZ"}]
[]
[null,null,null,null,null,null,null,{"$f":"MESAS!C22","v":"YEHOSHUA DAVID SANCHEZ BUELVAS"},null,null,{"$f":"MESAS!BC22","v":39}]
[]
[null,null,null,null,null,null,null,{"$f":"MESAS!C23","v":"RICARDO ALFONSO FONSECA OSPINO"}]
[]
[null,null,null,null,null,null,null,{"$f":"MESAS!C24","v":"ALFONSO CAMARGO ALVAREZ"},null,null,{"$f":"MESAS!BC24","v":93}]
[]
[null,null,null,null,null,null,null,{"$f":"MESAS!C25","v":"IVAN ARMANDO NAVARRO ARZUZA"}]
[]
[null,null,null,null,null,null,null,{"$f":"MESAS!C26","v":"MANUEL VICENTE LLINAS OSORIO"},null,null,{"$f":"MESAS!BC26","v":69}]
[]
[null,null,null,null,null,null,null,{"$f":"MESAS!C27","v":"JOSE MIGUEL ORTEGA PISCIOTTI"}]
[]
[null,null,null,null,null,null,null,null,null,null,"TOTAL"]
[null,null,null,null,null,null,null,"VOTOS EN BLANCO",null,null,{"$f":"MESAS!BC28","v":28}]
[]
[]
[null,null,null,null,null,null,null,null,null,null,"TOTAL"]
[null,null,null,null,null,null,null,"VOTOS NULOS",null,null,{"$f":"MESAS!BC29","v":4}]
[]
[]
[null,null,null,null,null,null,null,null,null,null,"TOTAL"]
[null,null,null,null,null,null,null,"TARJETONES SIN MARCAR",null,null,{"$f":"MESAS!BC30","v":8}]
[]
[]
[]
[null,null,null,null,null,null,"VOTOS TOTALES",null,null,null,{"$f":"MESAS!BC31","v":319}]

{"sheet":"BELLAS ARTES","index":3,"n_rows":33,"n_cols":11,"rows_kept":33,"cut":false,"hidden":false,"merged":[[0,5,2,11],[6,10,8,10],[3,2,3,11],[11,10,13,10],[15,10,17,10]]}
[null,null,null,null,null,{"$f":"SUPERIOR!F1","v":"Elecciones de representantes de los egresados 2017"}]
[]
[]
[null,null,"CONSEJO FACULTAD DE BELLAS ARTES"]
[]
[null,null,null,null,null,null,null,null,null,null,"TOTAL"]
[null,null,null,null,null,null,null,{"$f":"MESAS!C36","v":"BIBIANA FABIOLA HERNANDEZ SOLARTE"},null,null,{"$f":"MESAS!BC36","v":51}]
[]
[null,null,null,null,null,null,null,{"$f":"MESAS!C37","v":"GLORIA DE JESUS MALDONADO DE LA TORRE"}]
[]
[]
[null,null,null,null,null,null,null,{"$f":"MESAS!C38","v":"RAFAEL EDUARDO BROCHERO DITA"},null,null,{"$f":"MESAS!BC38","v":4}]
[]
[null,null,null,null,null,null,null,{"$f":"MESAS!C39","v":"RICARDO FIDEL MONTENEGRO VEGA"}]
[]
[null,null,null,null,null,null,null,{"$f":"MESAS!C40","v":"DAIRO EFREN BARRIOSNUEVO MARIN"},null,null,{"$f":"MESAS!BC40","v":57}]
[]
[null,null,null,null,null,null,null,{"$f":"MESAS!C41","v":"ALEX ENRIQUE GALLARDO ALBA"}]
[]
[null,null,null,null,null,null,null,null,null,null,"TOTAL"]
[null,null,null,null,null,null,null,"VOTOS EN BLANCO",null,null,{"$f":"MESAS!BC42","v":32}]
[]
[]
[null,null,null,null,null,null,null,null,null,null,"TOTAL"]
[null,null,null,null,null,null,null,"VOTOS NULOS",null,null,{"$f":"MESAS!BC43","v":6}]
[]
[]
[null,null,null,null,null,null,null,null,null,null,"TOTAL"]
[null,null,null,null,null,null,null,"TARJETONES SIN MARCAR",null,null,{"$f":"MESAS!BC44","v":0}]
[]
[]
[]
[null,null,null,null,null,null,"VOTOS TOTALES",null,null,null,{"$f":"MESAS!BC45","v":150}]

{"sheet":"CBASICAS","index":4,"n_rows":32,"n_cols":11,"rows_kept":32,"cut":false,"hidden":false,"merged":[[0,5,2,11],[3,2,3,11],[6,10,8,10],[10,10,12,10],[14,10,16,10]]}
[null,null,null,null,null,{"$f":"SUPERIOR!F1","v":"Elecciones de representantes de los egresados 2017"}]
[]
[]
[null,null,"CONSEJO DE FACULTAD DE CIENCIAS BÁSICAS"]
[]
[null,null,null,null,null,null,null,null,null,null,"TOTAL"]
[null,null,null,null,null,null,null,{"$f":"MESAS!C50","v":"LUIS RICARDO DIAZGRANADOS SALGADO"},null,null,{"$f":"MESAS!BC50","v":103}]
[]
[null,null,null,null,null,null,null,{"$f":"MESAS!C51","v":"SANDRA MARCELA ARRIETA MARQUEZ"}]
[]
[null,null,null,null,null,null,null,{"$f":"MESAS!C52","v":"ANDRES FERNANDO POLO HERNANDEZ"},null,null,{"$f":"MESAS!BC52","v":53}]
[]
[null,null,null,null,null,null,null,{"$f":"MESAS!C53","v":"FREDYS SANCHEZ CATALAN"}]
[]
[null,null,null,null,null,null,null,{"$f":"MESAS!C54","v":"DONALDO ANTONIO BURGOS HERNÁNDEZ"},null,null,{"$f":"MESAS!BC54","v":61}]
[]
[null,null,null,null,null,null,null,{"$f":"MESAS!C55","v":"MARIA ANGELICA SERJE ARIAS"}]
[]
[null,null,null,null,null,null,null,null,null,null,"TOTAL"]
[null,null,null,null,null,null,null,"VOTOS EN BLANCO",null,null,{"$f":"MESAS!BC56","v":32}]
[]
[]
[null,null,null,null,null,null,null,null,null,null,"TOTAL"]
[null,null,null,null,null,null,null,"VOTOS NULOS",null,null,{"$f":"MESAS!BC57","v":5}]
[]
[]
[null,null,null,null,null,null,null,null,null,null,"TOTAL"]
[null,null,null,null,null,null,null,"TARJETONES SIN MARCAR",null,null,{"$f":"MESAS!BC58","v":1}]
[]
[]
[]
[null,null,null,null,null,null,"VOTOS TOTALES",null,null,null,{"$f":"MESAS!BC59","v":255}]

{"sheet":"EDUCACION","index":5,"n_rows":50,"n_cols":11,"rows_kept":50,"cut":false,"hidden":false,"merged":[[21,10,23,10],[26,10,28,10],[31,10,33,10],[36,10,38,10],[0,5,2,11],[3,2,3,11],[6,10,8,10],[11,10,13,10],[16,10,18,10]]}
[null,null,null,null,null,{"$f":"SUPERIOR!F1","v":"Elecciones de representantes de los egresados 2017"}]
[]
[]
[null,null,"CONSEJO FACULTAD DE CIENCIAS DE LA EDUCACIÓN"]
[]
[null,null,null,null,null,null,null,null,null,null,"TOTAL"]
[null,null,null,null,null,null,null,{"$f":"MESAS!C64","v":"JORGE VIANA RODRIGUEZ"},null,null,{"$f":"MESAS!BC64","v":151}]
[]
[null,null,null,null,null,null,null,{"$f":"MESAS!C65","v":"CARLOS EMILIO CAMARGO GUZMAN"}]
[]
[]
[null,null,null,null,null,null,null,{"$f":"MESAS!C66","v":"LUIS CARLOS RIQUET ALEMAN"},null,null,{"$f":"MESAS!BC66","v":1100}]
[]
[null,null,null,null,null,null,null,{"$f":"MESAS!C67","v":"RICARDO MANUEL VILLEGAS PADILLA"}]
[]
[]
[null,null,null,null,null,null,null,{"$f":"MESAS!C68","v":"HUGO HUMBERTO BUELVAS FONTALVO"},null,null,{"$f":"MESAS!BC68","v":144}]
[]
[null,null,null,null,null,null,null,{"$f":"MESAS!C69","v":"FARID MIGUEL VASQUEZ CASTRO"}]
[]
[]
[null,null,null,null,null,null,null,{"$f":"MESAS!C70","v":"BRENDA VALENTINA PIANETA CANTILLO"},null,null,{"$f":"MESAS!BC70","v":580}]
[]
[null,null,null,null,null,null,null,{"$f":"MESAS!C71","v":"ANGELA TRILLOS MERCADO"}]
[]
[]
[null,null,null,null,null,null,null,{"$f":"MESAS!C72","v":"JOAQUIN RAFAEL MOLINA ESCORCIA"},null,null,{"$f":"MESAS!BC72","v":1039}]
[]
[null,null,null,null,null,null,null,{"$f":"MESAS!C73","v":"DIANA LUZ SALAS MARTINEZ"}]
[]
[]
[null,null,null,null,null,null,null,{"$f":"MESAS!C74","v":"RAFAEL RUBEN ROMO SANCHEZ"},null,null,{"$f":"MESAS!BC74","v":57}]
[]
[null,null,null,null,null,null,null,{"$f":"MESAS!C75","v":"HECTOR ENRIQUE TORRENEGRA AYALA"}]
[]
[]
[null,null,null,null,null,null,null,{"$f":"MESAS!C76","v":"MARTHA DE JESUS MONTENEGRO GONZALEZ"},null,null,{"$f":"MESAS!BC76","v":250}]
[]
[null,null,null,null,null,null,null,{"$f":"MESAS!C77","v":"MARLENE OCHOA MARTINEZ"}]
[null,null,null,null,null,null,null,null,null,null,"TOTAL"]
[null,null,null,null,null,null,null,"VOTOS EN BLANCO",null,null,{"$f":"MESAS!BC78","v":546}]
[]
[null,null,null,null,null,null,null,null,null,null,"TOTAL"]
[null,null,null,null,null,null,null,"VOTOS NULOS",null,null,{"$f":"MESAS!BC79","v":28}]
[null,null,null,null,null,null,null,null,null,null,"TOTAL"]
[null,null,null,null,null,null,null,"TARJETONES SIN MARCAR",null,null,{"$f":"MESAS!BC80","v":141}]
[]
[]
[]
[null,null,null,null,null,null,"VOTOS TOTALES",null,null,null,{"$f":"MESAS!BC81","v":4036}]

{"sheet":"ECONOMICAS","index":6,"n_rows":49,"n_cols":11,"rows_kept":49,"cut":false,"hidden":false,"merged":[[19,10,21,10],[23,10,25,10],[27,10,29,10],[31,10,33,10],[0,5,2,11],[6,10,8,10],[3,2,3,11],[11,10,13,10],[15,10,17,10]]}
[null,null,null,null,null,{"$f":"SUPERIOR!F1","v":"Elecciones de representantes de los egresados 2017"}]
[]
[]
[null,null,"CONSEJO FACULTAD DE CIENCIAS ECONÓMICAS"]
[]
[null,null,null,null,null,null,null,null,null,null,"TOTAL"]
[null,null,null,null,null,null,null,{"$f":"MESAS!C86","v":"EDER POLO SANDOVAL"},null,null,{"$f":"MESAS!BC86","v":167}]
[]
[null,null,null,null,null,null,null,{"$f":"MESAS!C87","v":"ALEXANDER CANTILLO MARQUEZ"}]
[]
[]
[null,null,null,null,null,null,null,{"$f":"MESAS!C88","v":"ELIANA MERCEDES NOVOA BOHORQUEZ"},null,null,{"$f":"MESAS!BC88","v":198}]
[]
[null,null,null,null,null,null,null,{"$f":"MESAS!C89","v":"MELINA JOSE DE LA ROSA PEREZ"}]
[]
[null,null,null,null,null,null,null,{"$f":"MESAS!C90","v":"JAVIER JOSE NUÑEZ AMARIS"},null,null,{"$f":"MESAS!BC90","v":33}]
[]
[null,null,null,null,null,null,null,{"$f":"MESAS!C91","v":"GUIDO RAFAEL TEHERAN MARTINEZ"}]
[]
[null,null,null,null,null,null,null,{"$f":"MESAS!C92","v":"YARITZA PAOLA GONZALEZ PEREA"},null,null,{"$f":"MESAS!BC92","v":187}]
[]
[null,null,null,null,null,null,null,{"$f":"MESAS!C93","v":"JOSE RAFAEL PUA ORTEGA"}]
[]
[null,null,null,null,null,null,null,{"$f":"MESAS!C94","v":"IVAN RENE TOVAR JIMENEZ"},null,null,{"$f":"MESAS!BC94","v":253}]
[]
[null,null,null,null,null,null,null,{"$f":"MESAS!C95","v":"JOSE LUIS BOLAÑO RIVERA"}]
[]
[null,null,null,null,null,null,null,{"$f":"MESAS!C96","v":"FABIAN ENRIQUE MONSALVO OLMOS"},null,null,{"$f":"MESAS!BC96","v":78}]
[]
[null,null,null,null,null,null,null,{"$f":"MESAS!C97","v":"CINDY JOHANA ROMERO MERCADO"}]
[]
[null,null,null,null,null,null,null,{"$f":"MESAS!C98","v":"RESNITH ALBERTO CABALLERO CONTRERA"},null,null,{"$f":"MESAS!BC98","v":52}]
[]
[null,null,null,null,null,null,null,{"$f":"MESAS!C99","v":"NICOLAS MIGUEL OLIVO ANGULO"}]
[]
[null,null,null,null,null,null,null,null,null,null,"TOTAL"]
[null,null,null,null,null,null,null,"VOTOS EN BLANCO",null,null,{"$f":"MESAS!BC100","v":106}]
[]
[]
[null,null,null,null,null,null,null,null,null,null,"TOTAL"]
[null,null,null,null,null,null,null,"VOTOS NULOS",null,null,{"$f":"MESAS!BC101","v":16}]
[]
[]
[null,null,null,null,null,null,null,null,null,null,"TOTAL"]
[null,null,null,null,null,null,null,"TARJETONES SIN MARCAR",null,null,{"$f":"MESAS!BC102","v":15}]
[]
[]
[]
[null,null,null,null,null,null,"VOTOS TOTALES",null,null,null,{"$f":"MESAS!BC103","v":1105}]

{"sheet":"CHUMANAS","index":7,"n_rows":34,"n_cols":11,"rows_kept":34,"cut":false,"hidden":false,"merged":[[0,5,2,11],[3,2,3,11],[6,10,8,10],[10,10,12,10],[14,10,16,10]]}
[null,null,null,null,null,{"$f":"SUPERIOR!F1","v":"Elecciones de representantes de los egresados 2017"}]
[]
[]
[null,null,"CONSEJO DE FACULTAD DE CIENCIAS HUMANAS"]
[]
[null,null,null,null,null,null,null,null,null,null,"TOTAL"]
[null,null,null,null,null,null,null,{"$f":"MESAS!C108","v":"CRISTIAN DE JESUS ANDION ANGULO"},null,null,{"$f":"MESAS!BC108","v":26}]
[]
[null,null,null,null,null,null,null,{"$f":"MESAS!C109","v":"MIGUEL ANGELLO RHENALS DIAZ"}]
[]
[null,null,null,null,null,null,null,{"$f":"MESAS!C110","v":"MOISES DAVID MARIMON PERALTA"},null,null,{"$f":"MESAS!BC110","v":64}]
[]
[null,null,null,null,null,null,null,{"$f":"MESAS!C111","v":"ANGELICA PATRICIA SANTIS NOVA"}]
[]
[null,null,null,null,null,null,null,{"$f":"MESAS!C112","v":"FABIO JOSE MENDOZA DIAZ"},null,null,{"$f":"MESAS!BC112","v":18}]
[]
[null,null,null,null,null,null,null,{"$f":"MESAS!C113","v":"OMAR  JOSE RODRIGUEZ CANENCIA"}]
[]
[]
[]
[null,null,null,null,null,null,null,null,null,null,"TOTAL"]
[null,null,null,null,null,null,null,"VOTOS EN BLANCO",null,null,{"$f":"MESAS!BC114","v":18}]
[]
[]
[null,null,null,null,null,null,null,null,null,null,"TOTAL"]
[null,null,null,null,null,null,null,"VOTOS NULOS",null,null,{"$f":"MESAS!BC115","v":2}]
[]
[]
[null,null,null,null,null,null,null,null,null,null,"TOTAL"]
[null,null,null,null,null,null,null,"TARJETONES SIN MARCAR",null,null,{"$f":"MESAS!BC116","v":0}]
[]
[]
[]
[null,null,null,null,null,null,"VOTOS TOTALES",null,null,null,{"$f":"MESAS!BC117","v":128}]

{"sheet":"JURIDICAS","index":8,"n_rows":51,"n_cols":11,"rows_kept":51,"cut":false,"hidden":false,"merged":[[19,10,21,10],[23,10,25,10],[27,10,29,10],[31,10,33,10],[0,5,2,11],[6,10,8,10],[3,2,3,11],[11,10,13,10],[15,10,17,10]]}
[null,null,null,null,null,{"$f":"SUPERIOR!F1","v":"Elecciones de representantes de los egresados 2017"}]
[]
[]
[null,null,"CONSEJO FACULTAD DE CIENCIAS JURÍDICAS"]
[]
[null,null,null,null,null,null,null,null,null,null,"TOTAL"]
[null,null,null,null,null,null,null,{"$f":"MESAS!C122","v":"KAREN YOHANA GALVIS ESPITIA"},null,null,{"$f":"MESAS!BC122","v":260}]
[]
[null,null,null,null,null,null,null,{"$f":"MESAS!C123","v":"ALBERTO RAFAEL MOLINA RAMOS"}]
[]
[]
[null,null,null,null,null,null,null,{"$f":"MESAS!C124","v":"HILDA ROSA BUSTILLO FIERRO"},null,null,{"$f":"MESAS!BC124","v":117}]
[]
[null,null,null,null,null,null,null,{"$f":"MESAS!C125","v":"ROLANDO ALBERTO GERLEIN MARTINEZ"}]
[]
[null,null,null,null,null,null,null,{"$f":"MESAS!C126","v":"MAYERLIN PADILLA FONTALVO"},null,null,{"$f":"MESAS!BC126","v":127}]
[]
[null,null,null,null,null,null,null,{"$f":"MESAS!C127","v":"LUIS EDUARDO ALARCON PRADA"}]
[]
[null,null,null,null,null,null,null,{"$f":"MESAS!C128","v":"ESTEFANY DEL CARMEN ARROYO ESCUDERO"},null,null,{"$f":"MESAS!BC128","v":81}]
[]
[null,null,null,null,null,null,null,{"$f":"MESAS!C129","v":"KIMBERLY ZARITH VILLANUEVA LOPEZ"}]
[]
[null,null,null,null,null,null,null,{"$f":"MESAS!C130","v":"ANUAR EMUL DIAZ ATENCIA"},null,null,{"$f":"MESAS!BC130","v":69}]
[]
[null,null,null,null,null,null,null,{"$f":"MESAS!C131","v":"JANNETH MARIA GALAVIS LOPEZ"}]
[]
[null,null,null,null,null,null,null,{"$f":"MESAS!C132","v":"HARLEY MANOTAS DE LA HOZ"},null,null,{"$f":"MESAS!BC132","v":110}]
[]
[null,null,null,null,null,null,null,{"$f":"MESAS!C133","v":"JESUS ANTONIO LAZARO SALCEDO"}]
[]
[null,null,null,null,null,null,null,{"$f":"MESAS!C134","v":"PATRICIA ELENA VIEDMA GONZALEZ"},null,null,{"$f":"MESAS!BC134","v":119}]
[]
[null,null,null,null,null,null,null,{"$f":"MESAS!C135","v":"BLEYDIS MARIA FIGUEROA PALACIO"}]
[]
[]
[]
[null,null,null,null,null,null,null,null,null,null,"TOTAL"]
[null,null,null,null,null,null,null,"VOTOS EN BLANCO",null,null,{"$f":"MESAS!BC136","v":52}]
[]
[]
[null,null,null,null,null,null,null,null,null,null,"TOTAL"]
[null,null,null,null,null,null,null,"VOTOS NULOS",null,null,{"$f":"MESAS!BC137","v":5}]
[]
[]
[null,null,null,null,null,null,null,null,null,null,"TOTAL"]
[null,null,null,null,null,null,null,"TARJETONES SIN MARCAR",null,null,{"$f":"MESAS!BC138","v":15}]
[]
[]
[]
[null,null,null,null,null,null,"VOTOS TOTALES",null,null,null,{"$f":"MESAS!BC139","v":955}]

{"sheet":"INGENIERIA","index":9,"n_rows":53,"n_cols":11,"rows_kept":53,"cut":false,"hidden":false,"merged":[[20,10,22,10],[25,10,27,10],[30,10,32,10],[34,10,36,10],[0,5,2,11],[3,2,3,11],[6,10,8,10],[11,10,13,10],[15,10,17,10]]}
[null,null,null,null,null,{"$f":"SUPERIOR!F1","v":"Elecciones de representantes de los egresados 2017"}]
[]
[]
[null,null,{"$f":"MESAS!B142","v":"CONSEJO DE FACULTAD DE INGENIERÍA"}]
[]
[null,null,null,null,null,null,null,null,null,null,"TOTAL"]
[null,null,null,null,null,null,null,{"$f":"MESAS!C144","v":"NICOLAS SOLANO CONDE"},null,null,{"$f":"MESAS!BC144","v":48}]
[]
[null,null,null,null,null,null,null,{"$f":"MESAS!C145","v":"ORLANDO RAFAEL MONTIEL ORTEGA"}]
[]
[]
[null,null,null,null,null,null,null,{"$f":"MESAS!C146","v":"STEPHANNY JULIETH YARALA DUARTE"},null,null,{"$f":"MESAS!BC146","v":112}]
[]
[null,null,null,null,null,null,null,{"$f":"MESAS!C147","v":"BETTY YANILETH PUELLO BORRERO"}]
[]
[null,null,null,null,null,null,null,{"$f":"MESAS!C148","v":"KATIUSCA VANESSA FLOREZ ROSALES"},null,null,{"$f":"MESAS!BC148","v":57}]
[]
[null,null,null,null,null,null,null,{"$f":"MESAS!C149","v":"JUAN GUILLERMO COHEN FONTALVO"}]
[]
[]
[null,null,null,null,null,null,null,{"$f":"MESAS!C150","v":"MARIA BERNARDA ALVARADO BAWAB"},null,null,{"$f":"MESAS!BC150","v":70}]
[]
[null,null,null,null,null,null,null,{"$f":"MESAS!C151","v":"CARLOS EDUARDO HERNANDEZ LALINDE"}]
[]
[]
[null,null,null,null,null,null,null,{"$f":"MESAS!C152","v":"CLAUDIA ISABEL RIVERA FONTALVO"},null,null,{"$f":"MESAS!BC152","v":44}]
[]
[null,null,null,null,null,null,null,{"$f":"MESAS!C153","v":"HOLLMANG MARLON SALTARIN VILORIA"}]
[]
[]
[null,null,null,null,null,null,null,{"$f":"MESAS!C154","v":"LUIS GERARDO ALMANZA LLANOS"},null,null,{"$f":"MESAS!BC154","v":15}]
[]
[null,null,null,null,null,null,null,{"$f":"MESAS!C155","v":"ANDRES MAURICIO ROCHA MOLINA"}]
[]
[null,null,null,null,null,null,null,{"$f":"MESAS!C156","v":"WILSON JOSE HERRERA BALLESTAS"},null,null,{"$f":"MESAS!BC156","v":40}]
[]
[null,null,null,null,null,null,null,{"$f":"MESAS!C157","v":"ENRIQUE ALFONSO GARCIA PELUFFO"}]
[]
[null,null,null,null,null,null,null,null,null,null,"TOTAL"]
[null,null,null,null,null,null,null,"VOTOS EN BLANCO",null,null,{"$f":"MESAS!BC158","v":46}]
[]
[]
[null,null,null,null,null,null,null,null,null,null,"TOTAL"]
[null,null,null,null,null,null,null,"VOTOS NULOS",null,null,{"$f":"MESAS!BC159","v":4}]
[]
[]
[null,null,null,null,null,null,null,null,null,null,"TOTAL"]
[null,null,null,null,null,null,null,"TARJETONES SIN MARCAR",null,null,{"$f":"MESAS!BC160","v":3}]
[]
[]
[]
[]
[null,null,null,null,null,null,"VOTOS TOTALES",null,null,null,{"$f":"MESAS!BC161","v":439}]

{"sheet":"NUTRICION","index":10,"n_rows":46,"n_cols":11,"rows_kept":46,"cut":false,"hidden":false,"merged":[[21,10,23,10],[26,10,28,10],[3,2,3,11],[0,5,2,11],[6,10,8,10],[11,10,13,10],[16,10,18,10]]}
[null,null,null,null,null,{"$f":"SUPERIOR!F1","v":"Elecciones de representantes de los egresados 2017"}]
[]
[]
[null,null,"CONSEJO FACULTAD DE NUTRICIÓN Y DIETÉTICA"]
[]
[null,null,null,null,null,null,null,null,null,null,"TOTAL"]
[null,null,null,null,null,null,null,{"$f":"MESAS!C166","v":"BASILIA SEGUNDA OROZCO OROZCO"},null,null,{"$f":"MESAS!BC166","v":79}]
[]
[null,null,null,null,null,null,null,{"$f":"MESAS!C167","v":"LUCIA DEL CARMEN BARRIOS ZAMBRANO"}]
[]
[]
[null,null,null,null,null,null,null,{"$f":"MESAS!C168","v":"ANTONIA ISABEL NIETO SANCHEZ"},null,null,{"$f":"MESAS!BC168","v":44}]
[]
[null,null,null,null,null,null,null,{"$f":"MESAS!C169","v":"ONEIDA ELENA BAYONA BARROS"}]
[]
[]
[null,null,null,null,null,null,null,{"$f":"MESAS!C170","v":"LUCINDA ESTHER REYES MARIMON"},null,null,{"$f":"MESAS!BC170","v":42}]
[]
[null,null,null,null,null,null,null,{"$f":"MESAS!C171","v":"KAROLL DARLEY JIMENEZ LEON"}]
[]
[]
[null,null,null,null,null,null,null,{"$f":"MESAS!C172","v":"IDANIS PAOLA DOMINGUEZ CALVO"},null,null,{"$f":"MESAS!BC172","v":20}]
[]
[null,null,null,null,null,null,null,{"$f":"MESAS!C173","v":"JESSICA PAOLA CAMPO ESTRADA"}]
[]
[]
[null,null,null,null,null,null,null,{"$f":"MESAS!C174","v":"JANIETH ANDREA CARVAJAL BARRETO"},null,null,{"$f":"MESAS!BC174","v":2}]
[]
[null,null,null,null,null,null,null,{"$f":"MESAS!C175","v":"MARGARITA ROSA FIGUEROA DE AVILA"}]
[]
[]
[]
[null,null,null,null,null,null,null,null,null,null,"TOTAL"]
[null,null,null,null,null,null,null,"VOTOS EN BLANCO",null,null,{"$f":"MESAS!BC176","v":9}]
[]
[]
[null,null,null,null,null,null,null,null,null,null,"TOTAL"]
[null,null,null,null,null,null,null,"VOTOS NULOS",null,null,{"$f":"MESAS!BC177","v":1}]
[]
[]
[null,null,null,null,null,null,null,null,null,null,"TOTAL"]
[null,null,null,null,null,null,null,"TARJETONES SIN MARCAR",null,null,{"$f":"MESAS!BC178","v":2}]
[]
[]
[]
[null,null,null,null,null,null,"VOTOS TOTALES",null,null,null,{"$f":"MESAS!BC179","v":199}]

{"sheet":"QUIMICA Y FARMACIA","index":11,"n_rows":26,"n_cols":11,"rows_kept":26,"cut":false,"hidden":false,"merged":[[0,5,2,11],[6,10,8,10],[3,2,3,11],[11,10,13,10]]}
[null,null,null,null,null,{"$f":"SUPERIOR!F1","v":"Elecciones de representantes de los egresados 2017"}]
[]
[]
[null,null,"CONSEJO FACULTAD DE QUÍMICA Y FARMACIA"]
[]
[null,null,null,null,null,null,null,null,null,null,"TOTAL"]
[null,null,null,null,null,null,null,{"$f":"MESAS!C184","v":"JULIO CESAR BAYUELO FLOREZ"},null,null,{"$f":"MESAS!BC184","v":9}]
[]
[null,null,null,null,null,null,null,{"$f":"MESAS!C185","v":"DANIEL TRESPALACIOS RODRIGUEZ"}]
[]
[]
[null,null,null,null,null,null,null,{"$f":"MESAS!C186","v":"ADALBERTO FELIX SEVILLA SERNA"},null,null,{"$f":"MESAS!BC186","v":166}]
[]
[null,null,null,null,null,null,null,{"$f":"MESAS!C187","v":"MARTIN LUIS ALVIS SERRANO"}]
[]
[null,null,null,null,null,null,null,null,null,null,"TOTAL"]
[null,null,null,null,null,null,null,"VOTOS EN BLANCO",null,null,{"$f":"MESAS!BC188","v":64}]
[]
[null,null,null,null,null,null,null,null,null,null,"TOTAL"]
[null,null,null,null,null,null,null,"VOTOS NULOS",null,null,{"$f":"MESAS!BC189","v":4}]
[null,null,null,null,null,null,null,null,null,null,"TOTAL"]
[null,null,null,null,null,null,null,"TARJETONES SIN MARCAR",null,null,{"$f":"MESAS!BC190","v":0}]
[]
[]
[]
[null,null,null,null,null,null,"VOTOS TOTALES",null,null,null,{"$f":"MESAS!BC191","v":243}]